BEGIN:VCALENDAR
VERSION:2.0
PRODID:-//81.169.145.95//NONSGML kigkonsult.se iCalcreator 2.20//
CALSCALE:GREGORIAN
METHOD:PUBLISH
X-WR-TIMEZONE:Europe/Berlin
BEGIN:VEVENT
UID:event54@Deutsche E-Darts Sport Organisation
DTSTAMP:20260425T202457Z
CATEGORIES:BL - Nord - Block 2
DESCRIPTION:DC Bull Eye BS 1/Rising Boyz Hildesheim/Hangover\nKategorie: BL
  - Nord - Block 2\nICS-Link: http://dedso.de/index.php?option=com_jem&view
 =event&id=54:dc-bull-eye-bs-1-rising-boyz-hildesheim-hangover\n
DTSTART;TZID=Europe/Berlin:20251025T120000
DTEND;TZID=Europe/Berlin:20251025T120000
LOCATION:Gartenverein Südstadt e.V.\,Fichtengrund 90\,38126 Braunschweig
SUMMARY:DC Bull Eye BS 1/Rising Boyz Hildesheim/Hangover
URL:http://dedso.de/index.php?option=com_jem&view=event&id=54:dc-bull-eye-b
 s-1-rising-boyz-hildesheim-hangover
END:VEVENT
END:VCALENDAR