BEGIN:VCALENDAR
VERSION:2.0
PRODID:-//81.169.145.95//NONSGML kigkonsult.se iCalcreator 2.20//
CALSCALE:GREGORIAN
METHOD:PUBLISH
X-WR-TIMEZONE:Europe/Berlin
BEGIN:VEVENT
UID:event59@Deutsche E-Darts Sport Organisation
DTSTAMP:20260420T035307Z
CATEGORIES:BL - Nord - Block 1
DESCRIPTION:Hilsoccer Arena (Hildesheim)\nKategorie: BL - Nord - Block 1\nI
 CS-Link: http://dedso.de/index.php?option=com_jem&view=event&id=59:rising-
 boyz-3-looney-tunis-1-dc-hildesheim\n
DTSTART;VALUE=DATE:20260321
DTEND;VALUE=DATE:20260322
LOCATION:Hilsoccer Arena\,Hildesheimer Str. 22\,31137 Hildesheim
SUMMARY:Hilsoccer Arena (Hildesheim)
URL:http://dedso.de/index.php?option=com_jem&view=event&id=59:rising-boyz-3
 -looney-tunis-1-dc-hildesheim
END:VEVENT
END:VCALENDAR