BEGIN:VCALENDAR
VERSION:2.0
PRODID:-//81.169.145.95//NONSGML kigkonsult.se iCalcreator 2.20//
CALSCALE:GREGORIAN
METHOD:PUBLISH
X-WR-TIMEZONE:Europe/Berlin
BEGIN:VEVENT
UID:event63@Deutsche E-Darts Sport Organisation
DTSTAMP:20260419T213349Z
CATEGORIES:BL - Nord - Block 2
DESCRIPTION:Ricklinger Stadtwegstübchen (Hannover)\nKategorie: BL - Nord - 
 Block 2\nICS-Link: http://dedso.de/index.php?option=com_jem&view=event&id=
 63:phoenix-a-d-a-1-dc-hildesheim\n
DTSTART;VALUE=DATE:20260425
DTEND;VALUE=DATE:20260426
LOCATION:Ricklinger Stadtwegstübchen\,Pfarrstr. 46\,30459 Hannover\,Germany
SUMMARY:Ricklinger Stadtwegstübchen (Hannover)
URL:http://dedso.de/index.php?option=com_jem&view=event&id=63:phoenix-a-d-a
 -1-dc-hildesheim
END:VEVENT
END:VCALENDAR