BEGIN:VCALENDAR
VERSION:2.0
PRODID:-//81.169.145.95//NONSGML kigkonsult.se iCalcreator 2.20//
CALSCALE:GREGORIAN
METHOD:PUBLISH
X-WR-TIMEZONE:Europe/Berlin
BEGIN:VEVENT
UID:event67@Deutsche E-Darts Sport Organisation
DTSTAMP:20260422T103941Z
CATEGORIES:BL - Nord - Block 3
DESCRIPTION:Altstadt-Dart e.V. (Rendsburg)\nCategory: BL - Nord - Block 3\n
 Link: https://dedso.de/index.php?option=com_jem&view=event&id=67:nordic-da
 rt-union-looney-tunes\n
DTSTART;VALUE=DATE:20260523
DTEND;VALUE=DATE:20260524
LOCATION:Altstadt-Dart e.V.\,Bredstedter Str. 23-25\,24768 Rendsburg
SUMMARY:Altstadt-Dart e.V. (Rendsburg)
URL:https://dedso.de/index.php?option=com_jem&view=event&id=67:nordic-dart-
 union-looney-tunes
END:VEVENT
END:VCALENDAR